BEGIN:VCALENDAR
VERSION:2.0
PRODID:-//O&#039;Dwyer&#039;s Public House - ECPv6.15.20//NONSGML v1.0//EN
CALSCALE:GREGORIAN
METHOD:PUBLISH
X-WR-CALNAME:O&#039;Dwyer&#039;s Public House
X-ORIGINAL-URL:https://www.odwyers.com
X-WR-CALDESC:Events for O&#039;Dwyer&#039;s Public House
REFRESH-INTERVAL;VALUE=DURATION:PT1H
X-Robots-Tag:noindex
X-PUBLISHED-TTL:PT1H
BEGIN:VTIMEZONE
TZID:America/New_York
BEGIN:DAYLIGHT
TZOFFSETFROM:-0500
TZOFFSETTO:-0400
TZNAME:EDT
DTSTART:20220313T070000
END:DAYLIGHT
BEGIN:STANDARD
TZOFFSETFROM:-0400
TZOFFSETTO:-0500
TZNAME:EST
DTSTART:20221106T060000
END:STANDARD
BEGIN:DAYLIGHT
TZOFFSETFROM:-0500
TZOFFSETTO:-0400
TZNAME:EDT
DTSTART:20230312T070000
END:DAYLIGHT
BEGIN:STANDARD
TZOFFSETFROM:-0400
TZOFFSETTO:-0500
TZNAME:EST
DTSTART:20231105T060000
END:STANDARD
BEGIN:DAYLIGHT
TZOFFSETFROM:-0500
TZOFFSETTO:-0400
TZNAME:EDT
DTSTART:20240310T070000
END:DAYLIGHT
BEGIN:STANDARD
TZOFFSETFROM:-0400
TZOFFSETTO:-0500
TZNAME:EST
DTSTART:20241103T060000
END:STANDARD
END:VTIMEZONE
BEGIN:VEVENT
DTSTART;TZID=America/New_York:20230303T180000
DTEND;TZID=America/New_York:20230303T220000
DTSTAMP:20260421T011839
CREATED:20221011T165556Z
LAST-MODIFIED:20221011T170026Z
UID:3117-1677866400-1677880800@www.odwyers.com
SUMMARY:Live Music | Duane Carleton
DESCRIPTION:Join us for some live music tonight at O’Dwyer’s Public House featuring Duane Carleton!
URL:https://www.odwyers.com/event/live-music-duane-carleton-2-2023-03-03/
LOCATION:O’Dwyer’s Public House\, 20 Summit Road\, Killington\, VT\, 05751\, United States
CATEGORIES:Live Music
END:VEVENT
BEGIN:VEVENT
DTSTART;TZID=America/New_York:20230304T180000
DTEND;TZID=America/New_York:20230304T220000
DTSTAMP:20260421T011839
CREATED:20221011T170350Z
LAST-MODIFIED:20221011T170350Z
UID:3154-1677952800-1677967200@www.odwyers.com
SUMMARY:Live Music | Dan Brown & Friends
DESCRIPTION:Join us for some live music tonight at O’Dwyer’s Public House featuring Dan Brown & Friends!
URL:https://www.odwyers.com/event/live-music-dan-brown-friends-2023-03-04/
LOCATION:O’Dwyer’s Public House\, 20 Summit Road\, Killington\, VT\, 05751\, United States
CATEGORIES:Live Music
END:VEVENT
BEGIN:VEVENT
DTSTART;TZID=America/New_York:20230310T180000
DTEND;TZID=America/New_York:20230310T220000
DTSTAMP:20260421T011839
CREATED:20221011T165556Z
LAST-MODIFIED:20221011T170026Z
UID:3118-1678471200-1678485600@www.odwyers.com
SUMMARY:Live Music | Duane Carleton
DESCRIPTION:Join us for some live music tonight at O’Dwyer’s Public House featuring Duane Carleton!
URL:https://www.odwyers.com/event/live-music-duane-carleton-2-2023-03-10/
LOCATION:O’Dwyer’s Public House\, 20 Summit Road\, Killington\, VT\, 05751\, United States
CATEGORIES:Live Music
END:VEVENT
BEGIN:VEVENT
DTSTART;TZID=America/New_York:20230311T180000
DTEND;TZID=America/New_York:20230311T220000
DTSTAMP:20260421T011839
CREATED:20221011T165910Z
LAST-MODIFIED:20221011T165910Z
UID:3128-1678557600-1678572000@www.odwyers.com
SUMMARY:Live Music | County Down
DESCRIPTION:Join us for some live music tonight at O’Dwyer’s Public House featuring County Down!
URL:https://www.odwyers.com/event/live-music-county-down-2023-03-11/
LOCATION:O’Dwyer’s Public House\, 20 Summit Road\, Killington\, VT\, 05751\, United States
CATEGORIES:Live Music
END:VEVENT
BEGIN:VEVENT
DTSTART;TZID=America/New_York:20230317T180000
DTEND;TZID=America/New_York:20230317T220000
DTSTAMP:20260421T011839
CREATED:20221011T165556Z
LAST-MODIFIED:20221011T170026Z
UID:3119-1679076000-1679090400@www.odwyers.com
SUMMARY:Live Music | Duane Carleton
DESCRIPTION:Join us for some live music tonight at O’Dwyer’s Public House featuring Duane Carleton!
URL:https://www.odwyers.com/event/live-music-duane-carleton-2-2023-03-17/
LOCATION:O’Dwyer’s Public House\, 20 Summit Road\, Killington\, VT\, 05751\, United States
CATEGORIES:Live Music
END:VEVENT
BEGIN:VEVENT
DTSTART;TZID=America/New_York:20230318T180000
DTEND;TZID=America/New_York:20230318T220000
DTSTAMP:20260421T011839
CREATED:20221011T170350Z
LAST-MODIFIED:20221011T170350Z
UID:3155-1679162400-1679176800@www.odwyers.com
SUMMARY:Live Music | Dan Brown & Friends
DESCRIPTION:Join us for some live music tonight at O’Dwyer’s Public House featuring Dan Brown & Friends!
URL:https://www.odwyers.com/event/live-music-dan-brown-friends-2023-03-18/
LOCATION:O’Dwyer’s Public House\, 20 Summit Road\, Killington\, VT\, 05751\, United States
CATEGORIES:Live Music
END:VEVENT
BEGIN:VEVENT
DTSTART;VALUE=DATE:20230320
DTEND;VALUE=DATE:20230419
DTSTAMP:20260421T011839
CREATED:20221011T173734Z
LAST-MODIFIED:20230329T163912Z
UID:3156-1679270400-1681862399@www.odwyers.com
SUMMARY:Closed to the Public | Renovations
DESCRIPTION:O’Dwyer’s Pub & Poolside Bar will be closed to the public during this time to complete new projects and renovations. Our opening day falls on May 25th. We are looking forward to hosting you then!
URL:https://www.odwyers.com/event/closed-to-the-public-renovations/
LOCATION:O’Dwyer’s Public House\, 20 Summit Road\, Killington\, VT\, 05751\, United States
CATEGORIES:Closed to the Public
END:VEVENT
END:VCALENDAR